BEGIN:VCALENDAR
VERSION:2.0
PRODID:-//ChamberMaster//Event Calendar 2.0//EN
METHOD:PUBLISH
X-PUBLISHED-TTL:P1H
REFRESH-INTERVAL:P1H
CALSCALE:GREGORIAN
BEGIN:VTIMEZONE
TZID:America/New_York
BEGIN:DAYLIGHT
RRULE:FREQ=YEARLY;BYMONTH=3;BYDAY=2SU
DTSTART:20070101T000000
TZOFFSETFROM:-0500
TZOFFSETTO:-0400
TZNAME:Eastern Daylight Time
END:DAYLIGHT
BEGIN:STANDARD
RRULE:FREQ=YEARLY;BYMONTH=11;BYDAY=1SU
DTSTART:20070101T000000
TZOFFSETFROM:-0400
TZOFFSETTO:-0500
TZNAME:Eastern Standard Time
END:STANDARD
END:VTIMEZONE
BEGIN:VEVENT
DTSTART;TZID=America/New_York:20260423T140000
DTEND;TZID=America/New_York:20260423T150000
X-MICROSOFT-CDO-ALLDAYEVENT:FALSE
SUMMARY:Transit Millage Workgroup
DESCRIPTION:MPTA is convening a short‑term\, peer‑to‑peer Millage Work Group to share experiences and identify practical needs for agencies with millages planned or under consideration for 2026-27.\n\nTopics may include:\nMillage timelines\nEducation vs. advocacy basics\nService scenarios if a millage does not pass\nMessaging and stakeholder engagement\nGetting boards and staff appropriately involved\n\nWe’ll also ask what participants most need help with next. Additional calls will be scheduled as needed.\n\nThis will be an informal\, practical discussion grounded in peer experience. Agencies further along in the process are encouraged to join and share lessons learned.
X-ALT-DESC;FMTTYPE=text/html:MPTA is convening a short‑term\, peer‑to‑peer Millage Work Group to share experiences and identify practical needs for agencies with millages planned or under consideration for 2026-27.\n\nTopics may include:\nMillage timelines\nEducation vs. advocacy basics\nService scenarios if a millage does not pass\nMessaging and stakeholder engagement\nGetting boards and staff appropriately involved\n\nWe’ll also ask what participants most need help with next. Additional calls will be scheduled as needed.\n\nThis will be an informal\, practical discussion grounded in peer experience. Agencies further along in the process are encouraged to join and share lessons learned.
LOCATION:
UID:e.4215.1446991
SEQUENCE:3
DTSTAMP:20260420T225428Z
URL:https://michiganpublictransitassociation.growthzoneapp.com/all-mpta-events/Details/transit-millage-workgroup-1713798?sourceTypeId=Hub
END:VEVENT
END:VCALENDAR
